Workbook

Sheet Attendance Sheet
A1: IIAAG High School Bowling League 2023
A2: Attendance Sheet
A4: School
A6: No. | B6: First Name | C6: Last Name | D6: Suffix | E6: Gender | G6: Session Dates | V6: Competition Eligibility | W6: Notes
E7: Male | F7: Female
G8: 1 | H8: 2 | I8: 3 | J8: 4 | K8: 5 | L8: 6 | M8: 7 | N8: 8 | O8: 9 | P8: 10 | Q8: 11 | R8: 12 | S8: 13 | T8: 14 | U8: 15 | V8: Yes or No
A9: 1
A10: 2
A11: 3
A12: 4
A13: 5
A14: 6
A15: 7
A16: 8
A17: 9
A18: 10
A19: 11
A20: 12
... A33: 25

Sheet Team Roster
A1: IIAAG High School Bowling League 2023
A2: Official Team Roster
A4: School | C4: =+'Attendance Sheet'!C4 -> 0
A6: No. | B6: First Name | C6: Last Name | D6: Suffix | E6: Gender | G6: Notes
E7: Male | F7: Female
A9: 1 | B9: =+'Attendance Sheet'!B9 -> 0 | C9: =+'Attendance Sheet'!C9 -> 0 | D9: =+'Attendance Sheet'!D9 -> 0 | E9: =+'Attendance Sheet'!E9 -> 0 | F9: =+'Attendance Sheet'!F9 -> 0
A10: 2 | B10: =+'Attendance Sheet'!B10 -> 0 | C10: =+'Attendance Sheet'!C10 -> 0 | D10: =+'Attendance Sheet'!D10 -> 0 | E10: =+'Attendance Sheet'!E10 -> 0 | F10: =+'Attendance Sheet'!F10 -> 0
A11: 3 | B11: =+'Attendance Sheet'!B11 -> 0 | C11: =+'Attendance Sheet'!C11 -> 0 | D11: =+'Attendance Sheet'!D11 -> 0 | E11: =+'Attendance Sheet'!E11 -> 0 | F11: =+'Attendance Sheet'!F11 -> 0
A12: 4 | B12: =+'Attendance Sheet'!B12 -> 0 | C12: =+'Attendance Sheet'!C12 -> 0 | D12: =+'Attendance Sheet'!D12 -> 0 | E12: =+'Attendance Sheet'!E12 -> 0 | F12: =+'Attendance Sheet'!F12 -> 0
A13: 5 | B13: =+'Attendance Sheet'!B13 -> 0 | C13: =+'Attendance Sheet'!C13 -> 0 | D13: =+'Attendance Sheet'!D13 -> 0 | E13: =+'Attendance Sheet'!E13 -> 0 | F13: =+'Attendance Sheet'!F13 -> 0
A14: 6 | B14: =+'Attendance Sheet'!B14 -> 0 | C14: =+'Attendance Sheet'!C14 -> 0 | D14: =+'Attendance Sheet'!D14 -> 0 | E14: =+'Attendance Sheet'!E14 -> 0 | F14: =+'Attendance Sheet'!F14 -> 0
A15: 7 | B15: =+'Attendance Sheet'!B15 -> 0 | C15: =+'Attendance Sheet'!C15 -> 0 | D15: =+'Attendance Sheet'!D15 -> 0 | E15: =+'Attendance Sheet'!E15 -> 0 | F15: =+'Attendance Sheet'!F15 -> 0
A16: 8 | B16: =+'Attendance Sheet'!B16 -> 0 | C16: =+'Attendance Sheet'!C16 -> 0 | D16: =+'Attendance Sheet'!D16 -> 0 | E16: =+'Attendance Sheet'!E16 -> 0 | F16: =+'Attendance Sheet'!F16 -> 0
A17: 9 | B17: =+'Attendance Sheet'!B17 -> 0 | C17: =+'Attendance Sheet'!C17 -> 0 | D17: =+'Attendance Sheet'!D17 -> 0 | E17: =+'Attendance Sheet'!E17 -> 0 | F17: =+'Attendance Sheet'!F17 -> 0
A18: 10 | B18: =+'Attendance Sheet'!B18 -> 0 | C18: =+'Attendance Sheet'!C18 -> 0 | D18: =+'Attendance Sheet'!D18 -> 0 | E18: =+'Attendance Sheet'!E18 -> 0 | F18: =+'Attendance Sheet'!F18 -> 0
A19: 11 | B19: =+'Attendance Sheet'!B19 -> 0 | C19: =+'Attendance Sheet'!C19 -> 0 | D19: =+'Attendance Sheet'!D19 -> 0 | E19: =+'Attendance Sheet'!E19 -> 0 | F19: =+'Attendance Sheet'!F19 -> 0
A20: 12 | B20: =+'Attendance Sheet'!B20 -> 0 | C20: =+'Attendance Sheet'!C20 -> 0 | D20: =+'Attendance Sheet'!D20 -> 0 | E20: =+'Attendance Sheet'!E20 -> 0 | F20: =+'Attendance Sheet'!F20 -> 0
... A33: 25 | B33: =+'Attendance Sheet'!B33 -> 0 | C33: =+'Attendance Sheet'!C33 -> 0 | D33: =+'Attendance Sheet'!D33 -> 0 | E33: =+'Attendance Sheet'!E33 -> 0 | F33: =+'Attendance Sheet'!F33 -> 0

Sheet Competition Attendance
A1: IIAAG High School Bowling League 2023
A2: Competition Attendance Sheet
A4: School | C4: =+'Attendance Sheet'!C4 -> 0
A6: No. | B6: First Name | C6: Last Name | D6: Suffix | E6: Gender | G6: Competition Dates | L6: All Island Eligibility | M6: Notes
E7: Male | F7: Female
G8: 1 | H8: 2 | I8: 3 | J8: 4 | K8: 5 | L8: Yes or No
A9: 1 | B9: =+'Attendance Sheet'!B9 -> 0 | C9: =+'Attendance Sheet'!C9 -> 0 | D9: =+'Attendance Sheet'!D9 -> 0 | E9: =+'Attendance Sheet'!E9 -> 0 | F9: =+'Attendance Sheet'!F9 -> 0
A10: 2 | B10: =+'Attendance Sheet'!B10 -> 0 | C10: =+'Attendance Sheet'!C10 -> 0 | D10: =+'Attendance Sheet'!D10 -> 0 | E10: =+'Attendance Sheet'!E10 -> 0 | F10: =+'Attendance Sheet'!F10 -> 0
A11: 3 | B11: =+'Attendance Sheet'!B11 -> 0 | C11: =+'Attendance Sheet'!C11 -> 0 | D11: =+'Attendance Sheet'!D11 -> 0 | E11: =+'Attendance Sheet'!E11 -> 0 | F11: =+'Attendance Sheet'!F11 -> 0
A12: 4 | B12: =+'Attendance Sheet'!B12 -> 0 | C12: =+'Attendance Sheet'!C12 -> 0 | D12: =+'Attendance Sheet'!D12 -> 0 | E12: =+'Attendance Sheet'!E12 -> 0 | F12: =+'Attendance Sheet'!F12 -> 0
A13: 5 | B13: =+'Attendance Sheet'!B13 -> 0 | C13: =+'Attendance Sheet'!C13 -> 0 | D13: =+'Attendance Sheet'!D13 -> 0 | E13: =+'Attendance Sheet'!E13 -> 0 | F13: =+'Attendance Sheet'!F13 -> 0
A14: 6 | B14: =+'Attendance Sheet'!B14 -> 0 | C14: =+'Attendance Sheet'!C14 -> 0 | D14: =+'Attendance Sheet'!D14 -> 0 | E14: =+'Attendance Sheet'!E14 -> 0 | F14: =+'Attendance Sheet'!F14 -> 0
A15: 7 | B15: =+'Attendance Sheet'!B15 -> 0 | C15: =+'Attendance Sheet'!C15 -> 0 | D15: =+'Attendance Sheet'!D15 -> 0 | E15: =+'Attendance Sheet'!E15 -> 0 | F15: =+'Attendance Sheet'!F15 -> 0
A16: 8 | B16: =+'Attendance Sheet'!B16 -> 0 | C16: =+'Attendance Sheet'!C16 -> 0 | D16: =+'Attendance Sheet'!D16 -> 0 | E16: =+'Attendance Sheet'!E16 -> 0 | F16: =+'Attendance Sheet'!F16 -> 0
A17: 9 | B17: =+'Attendance Sheet'!B17 -> 0 | C17: =+'Attendance Sheet'!C17 -> 0 | D17: =+'Attendance Sheet'!D17 -> 0 | E17: =+'Attendance Sheet'!E17 -> 0 | F17: =+'Attendance Sheet'!F17 -> 0
A18: 10 | B18: =+'Attendance Sheet'!B18 -> 0 | C18: =+'Attendance Sheet'!C18 -> 0 | D18: =+'Attendance Sheet'!D18 -> 0 | E18: =+'Attendance Sheet'!E18 -> 0 | F18: =+'Attendance Sheet'!F18 -> 0
A19: 11 | B19: =+'Attendance Sheet'!B19 -> 0 | C19: =+'Attendance Sheet'!C19 -> 0 | D19: =+'Attendance Sheet'!D19 -> 0 | E19: =+'Attendance Sheet'!E19 -> 0 | F19: =+'Attendance Sheet'!F19 -> 0
A20: 12 | B20: =+'Attendance Sheet'!B20 -> 0 | C20: =+'Attendance Sheet'!C20 -> 0 | D20: =+'Attendance Sheet'!D20 -> 0 | E20: =+'Attendance Sheet'!E20 -> 0 | F20: =+'Attendance Sheet'!F20 -> 0
... A33: 25 | B33: =+'Attendance Sheet'!B33 -> 0 | C33: =+'Attendance Sheet'!C33 -> 0 | D33: =+'Attendance Sheet'!D33 -> 0 | E33: =+'Attendance Sheet'!E33 -> 0 | F33: =+'Attendance Sheet'!F33 -> 0
